Workbook

Sheet Solicitud
A1: SOLICITUD DE INVERSIÓN FUNED REC 02.00.01
B2: Programa presupuestario 8: Inversiones
B3: Rectoría
B4: Versión 01
B5: Fecha de aprobación 20 febrero, 2023 | D5: Rigue a a partir del 21 de febrero, 2023
B6: Acuerdo CONRE: CR-2023-204
A8: Fecha de Solicitud | B8: Vicerrectoría | C8: Dependencia Solicitante | D8: Actividad Presupuestaria | E8: Persona Responsable | F8: No.Cédula | G8: Nombre del Proyecto / Necesidad de Inversión | H8: Descripción del Proyecto | I8: Justificación | J8: Objetivo o Función vinculada | K8: Productos / Servicios | L8: Descripción del bien o servicio | M8: Cantidad | N8: Costo Unitario Estimado (en colones) | O8: Costo total Estimado | P8: Nombre SubPartida | Q8: SubPartida Presupuestaria | R8: Plazo Años de Ejecución | S8: Costo año 1 (en colones) | T8: Costo año 2 (en colones) | U8: Costo año 3 (en colones) | V8: Observaciones
Q10: =VLOOKUP(P10,Datos!$B$2:$C$14,2,FALSE) -> #N/A
O11: =M11*N11 -> 0 | Q11: =VLOOKUP(P11,Datos!$B$2:$C$14,2,FALSE) -> #N/A
O12: =M12*N12 -> 0 | Q12: =VLOOKUP(P12,Datos!$B$2:$C$14,2,FALSE) -> #N/A
O13: =M13*N13 -> 0 | Q13: =VLOOKUP(P13,Datos!$B$2:$C$14,2,FALSE) -> #N/A
O14: =M14*N14 -> 0 | Q14: =VLOOKUP(P14,Datos!$B$2:$C$14,2,FALSE) -> #N/A
O15: =M15*N15 -> 0 | Q15: =VLOOKUP(P15,Datos!$B$2:$C$14,2,FALSE) -> #N/A
O16: =M16*N16 -> 0 | Q16: =VLOOKUP(P16,Datos!$B$2:$C$14,2,FALSE) -> #N/A
O17: =M17*N17 -> 0 | Q17: =VLOOKUP(P17,Datos!$B$2:$C$14,2,FALSE) -> #N/A
O18: =M18*N18 -> 0 | Q18: =VLOOKUP(P18,Datos!$B$2:$C$14,2,FALSE) -> #N/A
O19: =M19*N19 -> 0 | Q19: =VLOOKUP(P19,Datos!$B$2:$C$14,2,FALSE) -> #N/A
O20: =M20*N20 -> 0 | Q20: =VLOOKUP(P20,Datos!$B$2:$C$14,2,FALSE) -> #N/A
O21: =M21*N21 -> 0 | Q21: =VLOOKUP(P21,Datos!$B$2:$C$14,2,FALSE) -> #N/A
O22: =M22*N22 -> 0 | Q22: =VLOOKUP(P22,Datos!$B$2:$C$14,2,FALSE) -> #N/A
... O29: =M29*N29 -> 0 | Q29: =VLOOKUP(P29,Datos!$B$2:$C$14,2,FALSE) -> #N/A

Sheet Seguimiento
A1: PROPUESTA DE INVERSIONES FUNED REC 02.00.02
B2: Programa presupuestario 8: Inversiones
B3: Rectoría
B4: Versión 01
B5: Fecha de aprobación: | C5: 16 de octubre, 2026 | D5: Rigue a a partir de: | E5: 28 de octubre, 2026
B6: Acuerdo CONRE: | C6: CR-1392-2026
A8: Fecha de Solicitud | B8: Vicerrectoría | C8: Dependencia Solicitante | D8: Actividad Presupuestaria | E8: Persona Responsable | F8: No.Cédula | G8: Nombre del Proyecto / Necesidad de Inversión | H8: Resultado o beneficio esperado mediante el bien o servicio | I8: Justificación | J8: Objetivo o Función vinculada | K8: Productos / Servicios | L8: Descripción del bien o servicio | M8: Cantidad | N8: Costo Unitario Estimado (en colones) | O8: Costo total Estimado | P8: Nombre SubPartida | Q8: SubPartida Presupuestaria | R8: Estado al 30/06/2025 | S8: % de Avance del proceso de compra (estimado) | T8: Estado al 15/12/2025 | U8: % de Avance del proceso de compra (estimado)2 | V8: Monto final adjudicado | W8: Observaciones | Z8: Recepción de ofertas
Z9: Análisis técnico y financiero de ofertas (o Análisis de ofertas)
A10: =+Solicitud!A10 -> 0 | B10: =+Solicitud!B10 -> 0 | C10: =+Solicitud!C10 -> 0 | D10: =+Solicitud!D10 -> 0 | E10: =+Solicitud!E10 -> 0 | F10: =+Solicitud!F10 -> 0 | G10: =+Solicitud!G10 -> 0 | H10: =+Solicitud!H10 -> 0 | ... P10: =+Solicitud!P10 -> 0 | Q10: =VLOOKUP(P10,Datos!$B$2:$C$14,2,FALSE) -> #N/A | Z10: En proceso de adjudicación en firme (esto incluye a nivel institucional)
A11: =+Solicitud!A11 -> 0 | B11: =+Solicitud!B11 -> 0 | C11: =+Solicitud!C11 -> 0 | D11: =+Solicitud!D11 -> 0 | E11: =+Solicitud!E11 -> 0 | F11: =+Solicitud!F11 -> 0 | G11: =+Solicitud!G11 -> 0 | H11: =+Solicitud!H11 -> 0 | ... P11: =+Solicitud!P11 -> 0 | Q11: =VLOOKUP(P11,Datos!$B$2:$C$14,2,FALSE) -> #N/A | Z11: Apelaciones (en caso de que se presenten)
A12: =+Solicitud!A12 -> 0 | B12: =+Solicitud!B12 -> 0 | C12: =+Solicitud!C12 -> 0 | D12: =+Solicitud!D12 -> 0 | E12: =+Solicitud!E12 -> 0 | F12: =+Solicitud!F12 -> 0 | G12: =+Solicitud!G12 -> 0 | H12: =+Solicitud!H12 -> 0 | ... P12: =+Solicitud!P12 -> 0 | Q12: =VLOOKUP(P12,Datos!$B$2:$C$14,2,FALSE) -> #N/A | Z12: Firma del contrato
A13: =+Solicitud!A13 -> 0 | B13: =+Solicitud!B13 -> 0 | C13: =+Solicitud!C13 -> 0 | D13: =+Solicitud!D13 -> 0 | E13: =+Solicitud!E13 -> 0 | F13: =+Solicitud!F13 -> 0 | G13: =+Solicitud!G13 -> 0 | H13: =+Solicitud!H13 -> 0 | ... P13: =+Solicitud!P13 -> 0 | Q13: =VLOOKUP(P13,Datos!$B$2:$C$14,2,FALSE) -> #N/A
A14: =+Solicitud!A14 -> 0 | B14: =+Solicitud!B14 -> 0 | C14: =+Solicitud!C14 -> 0 | D14: =+Solicitud!D14 -> 0 | E14: =+Solicitud!E14 -> 0 | F14: =+Solicitud!F14 -> 0 | G14: =+Solicitud!G14 -> 0 | H14: =+Solicitud!H14 -> 0 | ... P14: =+Solicitud!P14 -> 0 | Q14: =VLOOKUP(P14,Datos!$B$2:$C$14,2,FALSE) -> #N/A
A15: =+Solicitud!A15 -> 0 | B15: =+Solicitud!B15 -> 0 | C15: =+Solicitud!C15 -> 0 | D15: =+Solicitud!D15 -> 0 | E15: =+Solicitud!E15 -> 0 | F15: =+Solicitud!F15 -> 0 | G15: =+Solicitud!G15 -> 0 | H15: =+Solicitud!H15 -> 0 | ... P15: =+Solicitud!P15 -> 0 | Q15: =VLOOKUP(P15,Datos!$B$2:$C$14,2,FALSE) -> #N/A
A16: =+Solicitud!A16 -> 0 | B16: =+Solicitud!B16 -> 0 | C16: =+Solicitud!C16 -> 0 | D16: =+Solicitud!D16 -> 0 | E16: =+Solicitud!E16 -> 0 | F16: =+Solicitud!F16 -> 0 | G16: =+Solicitud!G16 -> 0 | H16: =+Solicitud!H16 -> 0 | ... P16: =+Solicitud!P16 -> 0 | Q16: =VLOOKUP(P16,Datos!$B$2:$C$14,2,FALSE) -> #N/A
A17: =+Solicitud!A17 -> 0 | B17: =+Solicitud!B17 -> 0 | C17: =+Solicitud!C17 -> 0 | D17: =+Solicitud!D17 -> 0 | E17: =+Solicitud!E17 -> 0 | F17: =+Solicitud!F17 -> 0 | G17: =+Solicitud!G17 -> 0 | H17: =+Solicitud!H17 -> 0 | ... P17: =+Solicitud!P17 -> 0 | Q17: =VLOOKUP(P17,Datos!$B$2:$C$14,2,FALSE) -> #N/A
A18: =+Solicitud!A18 -> 0 | B18: =+Solicitud!B18 -> 0 | C18: =+Solicitud!C18 -> 0 | D18: =+Solicitud!D18 -> 0 | E18: =+Solicitud!E18 -> 0 | F18: =+Solicitud!F18 -> 0 | G18: =+Solicitud!G18 -> 0 | H18: =+Solicitud!H18 -> 0 | ... P18: =+Solicitud!P18 -> 0 | Q18: =VLOOKUP(P18,Datos!$B$2:$C$14,2,FALSE) -> #N/A
A19: =+Solicitud!A19 -> 0 | B19: =+Solicitud!B19 -> 0 | C19: =+Solicitud!C19 -> 0 | D19: =+Solicitud!D19 -> 0 | E19: =+Solicitud!E19 -> 0 | F19: =+Solicitud!F19 -> 0 | G19: =+Solicitud!G19 -> 0 | H19: =+Solicitud!H19 -> 0 | ... P19: =+Solicitud!P19 -> 0 | Q19: =VLOOKUP(P19,Datos!$B$2:$C$14,2,FALSE) -> #N/A
A20: =+Solicitud!A20 -> 0 | B20: =+Solicitud!B20 -> 0 | C20: =+Solicitud!C20 -> 0 | D20: =+Solicitud!D20 -> 0 | E20: =+Solicitud!E20 -> 0 | F20: =+Solicitud!F20 -> 0 | G20: =+Solicitud!G20 -> 0 | H20: =+Solicitud!H20 -> 0 | ... P20: =+Solicitud!P20 -> 0 | Q20: =VLOOKUP(P20,Datos!$B$2:$C$14,2,FALSE) -> #N/A
A21: =+Solicitud!A21 -> 0 | B21: =+Solicitud!B21 -> 0 | C21: =+Solicitud!C21 -> 0 | D21: =+Solicitud!D21 -> 0 | E21: =+Solicitud!E21 -> 0 | F21: =+Solicitud!F21 -> 0 | G21: =+Solicitud!G21 -> 0 | H21: =+Solicitud!H21 -> 0 | ... P21: =+Solicitud!P21 -> 0 | Q21: =VLOOKUP(P21,Datos!$B$2:$C$14,2,FALSE) -> #N/A
A22: =+Solicitud!A22 -> 0 | B22: =+Solicitud!B22 -> 0 | C22: =+Solicitud!C22 -> 0 | D22: =+Solicitud!D22 -> 0 | E22: =+Solicitud!E22 -> 0 | F22: =+Solicitud!F22 -> 0 | G22: =+Solicitud!G22 -> 0 | H22: =+Solicitud!H22 -> 0 | ... P22: =+Solicitud!P22 -> 0 | Q22: =VLOOKUP(P22,Datos!$B$2:$C$14,2,FALSE) -> #N/A
A23: =+Solicitud!A23 -> 0 | B23: =+Solicitud!B23 -> 0 | C23: =+Solicitud!C23 -> 0 | D23: =+Solicitud!D23 -> 0 | E23: =+Solicitud!E23 -> 0 | F23: =+Solicitud!F23 -> 0 | G23: =+Solicitud!G23 -> 0 | H23: =+Solicitud!H23 -> 0 | ... P23: =+Solicitud!P23 -> 0 | Q23: =VLOOKUP(P23,Datos!$B$2:$C$14,2,FALSE) -> #N/A
A24: =+Solicitud!A24 -> 0 | B24: =+Solicitud!B24 -> 0 | C24: =+Solicitud!C24 -> 0 | D24: =+Solicitud!D24 -> 0 | E24: =+Solicitud!E24 -> 0 | F24: =+Solicitud!F24 -> 0 | G24: =+Solicitud!G24 -> 0 | H24: =+Solicitud!H24 -> 0 | ... P24: =+Solicitud!P24 -> 0 | Q24: =VLOOKUP(P24,Datos!$B$2:$C$14,2,FALSE) -> #N/A
... A29: =+Solicitud!A29 -> 0 | B29: =+Solicitud!B29 -> 0 | C29: =+Solicitud!C29 -> 0 | D29: =+Solicitud!D29 -> 0 | E29: =+Solicitud!E29 -> 0 | F29: =+Solicitud!F29 -> 0 | G29: =+Solicitud!G29 -> 0 | H29: =+Solicitud!H29 -> 0 | ... P29: =+Solicitud!P29 -> 0 | Q29: =VLOOKUP(P29,Datos!$B$2:$C$14,2,FALSE) -> #N/A

Sheet Datos
A1: Vicerrectoria | B1: NombrePartida | C1: Num_Partida
A2: Rectoría | B2: Maquinaria y equipo para producción | C2: 5.01.01
A3: V. Docencia | B3: Equipo de transporte | C3: 5.01.02
A4: V. Investigación | B4: Equipo de comunicación | C4: 5.01.03
A5: V. Extensión | B5: Equipo y mobiliario de oficina | C5: 5.01.04
A6: V. Vida Estudiantil | B6: Equipo de cómputo | C6: 5.01.05
A7: V. Planificación | B7: Equipo sanitario, de laboratorio e investigación | C7: 5.01.06
A8: V. Ejecutiva | B8: Equipo y mobiliario educativo, deportivo y recreativo. | C8: 5.01.07
B9: Maquinaria, equipo y mobiliario diverso. | C9: 5.01.99
B10: Edificios | C10: 5.02.01
B11: Instalaciones | C11: 5.02.07
B12: Otras construcciones, adiciones y mejoras | C12: 5.02.99
B13: Piezas y obras de colec. | C13: 5.99.02
B14: Bienes intangibles | C14: 5.99.03
