Workbook

Sheet Solicitud
A1: SOLICITUD DE INVERSIÓN FUNED REC 02.00.01
B2: Programa presupuestario 8: Inversiones
B3: Rectoría
B4: Versión 02
B5: Fecha de aprobación: | C5: 16 de octubre, 2026 | D5: Rigue a a partir de: | E5: 28 de octubre, 2026
B6: Acuerdo CONRE: | C6: CR-1392-2026
A8: Fecha de Solicitud | B8: Vicerrectoría | C8: Dependencia Solicitante | D8: Actividad Presupuestaria | E8: Persona Responsable | F8: No.Cédula | G8: Nombre del Proyecto / Necesidad de Inversión | H8: Resultado o beneficio esperado mediante el bien o servicio | I8: Justificación | J8: Objetivo o Función vinculada | K8: Productos / Servicios | L8: Descripción del bien o servicio | M8: Cantidad | N8: Costo Unitario Estimado (en colones) | O8: Costo total Estimado | P8: Nombre SubPartida | Q8: SubPartida Presupuestaria | R8: Plazo Años de Ejecución | S8: Costo año 1 (en colones) | T8: Costo año 2 (en colones) | U8: Costo año 3 (en colones) | V8: Observaciones
Q10: =VLOOKUP(P10,Datos!$B$2:$C$14,2,FALSE) -> #N/A
O11: =M11*N11 -> 0 | Q11: =VLOOKUP(P11,Datos!$B$2:$C$14,2,FALSE) -> #N/A
O12: =M12*N12 -> 0 | Q12: =VLOOKUP(P12,Datos!$B$2:$C$14,2,FALSE) -> #N/A
O13: =M13*N13 -> 0 | Q13: =VLOOKUP(P13,Datos!$B$2:$C$14,2,FALSE) -> #N/A
O14: =M14*N14 -> 0 | Q14: =VLOOKUP(P14,Datos!$B$2:$C$14,2,FALSE) -> #N/A
O15: =M15*N15 -> 0 | Q15: =VLOOKUP(P15,Datos!$B$2:$C$14,2,FALSE) -> #N/A
O16: =M16*N16 -> 0 | Q16: =VLOOKUP(P16,Datos!$B$2:$C$14,2,FALSE) -> #N/A
O17: =M17*N17 -> 0 | Q17: =VLOOKUP(P17,Datos!$B$2:$C$14,2,FALSE) -> #N/A
O18: =M18*N18 -> 0 | Q18: =VLOOKUP(P18,Datos!$B$2:$C$14,2,FALSE) -> #N/A
O19: =M19*N19 -> 0 | Q19: =VLOOKUP(P19,Datos!$B$2:$C$14,2,FALSE) -> #N/A
O20: =M20*N20 -> 0 | Q20: =VLOOKUP(P20,Datos!$B$2:$C$14,2,FALSE) -> #N/A
O21: =M21*N21 -> 0 | Q21: =VLOOKUP(P21,Datos!$B$2:$C$14,2,FALSE) -> #N/A
O22: =M22*N22 -> 0 | Q22: =VLOOKUP(P22,Datos!$B$2:$C$14,2,FALSE) -> #N/A
... O29: =M29*N29 -> 0 | Q29: =VLOOKUP(P29,Datos!$B$2:$C$14,2,FALSE) -> #N/A

Sheet Datos
A1: Vicerrectoria | B1: NombrePartida | C1: Num_Partida
A2: Rectoría | B2: Maquinaria y equipo para producción | C2: 5.01.01
A3: V. Docencia | B3: Equipo de transporte | C3: 5.01.02
A4: V. Investigación | B4: Equipo de comunicación | C4: 5.01.03
A5: V. Extensión | B5: Equipo y mobiliario de oficina | C5: 5.01.04
A6: V. Vida Estudiantil | B6: Equipo de cómputo | C6: 5.01.05
A7: V. Planificación | B7: Equipo sanitario, de laboratorio e investigación | C7: 5.01.06
A8: V. Ejecutiva | B8: Equipo y mobiliario educativo, deportivo y recreativo. | C8: 5.01.07
B9: Maquinaria, equipo y mobiliario diverso. | C9: 5.01.99
B10: Edificios | C10: 5.02.01
B11: Instalaciones | C11: 5.02.07
B12: Otras construcciones, adiciones y mejoras | C12: 5.02.99
B13: Piezas y obras de colec. | C13: 5.99.02
B14: Bienes intangibles | C14: 5.99.03
